BEGIN:VCALENDAR
VERSION:2.0
PRODID:-//TYPO3/NONSGML News system (news)//EN
CALSCALE:GREGORIAN
METHOD:PUBLISH
BEGIN:VEVENT
UID:news-45075@stadtgmuend.at

DTSTAMP:20260422T104333Z



DTSTART;TZID=Europe/Vienna:20260601T180000
DTEND;TZID=Europe/Vienna:20260601T210000

SUMMARY:Theaterwagen des Ensembles Porcia
DESCRIPTION:KÄRNTEN-PREMIERE des Straßentheaters in Gmünd

LOCATION:


END:VEVENT
END:VCALENDAR
