BEGIN:VCALENDAR
VERSION:2.0
PRODID:-//TYPO3/NONSGML News system (news)//EN
CALSCALE:GREGORIAN
METHOD:PUBLISH
BEGIN:VEVENT
UID:news-96968@stadtgmuend.at

DTSTAMP:20260422T121432Z



DTSTART;TZID=Europe/Vienna:20260507T190000
DTEND;TZID=Europe/Vienna:20260507T000000

SUMMARY:Kulturkino Gmünd
DESCRIPTION:Ausgewählte Spielfilme

LOCATION:


END:VEVENT
END:VCALENDAR
