BEGIN:VCALENDAR
VERSION:2.0
PRODID:-//TYPO3/NONSGML News system (news)//EN
CALSCALE:GREGORIAN
METHOD:PUBLISH
BEGIN:VEVENT
UID:news-116403@stadtgmuend.at

DTSTAMP:20260421T154840Z



DTSTART;TZID=Europe/Vienna:20260530T190000
DTEND;TZID=Europe/Vienna:20260530T210000

SUMMARY:Das Gmündner Brezel Rätsel Teil 2 - Auf nach Safarika
DESCRIPTION:Eine Musicalproduktion der Musikmittelschule Gmünd

LOCATION:


END:VEVENT
END:VCALENDAR
