BEGIN:VCALENDAR
VERSION:2.0
PRODID:-//TYPO3/NONSGML News system (news)//EN
CALSCALE:GREGORIAN
METHOD:PUBLISH
BEGIN:VEVENT
UID:news-109784@stadtgmuend.at

DTSTAMP:20260420T102339Z



DTSTART;TZID=Europe/Vienna:20260319T180000
DTEND;TZID=Europe/Vienna:20260319T210000

SUMMARY:Türkranzkurs
DESCRIPTION:Kranzbinden lernen mit Poppy Meisterfloristik by Selina

LOCATION:


END:VEVENT
END:VCALENDAR
