BEGIN:VCALENDAR
VERSION:2.0
PRODID:-//TYPO3/NONSGML News system (news)//EN
CALSCALE:GREGORIAN
METHOD:PUBLISH
BEGIN:VEVENT
UID:news-114324@stadtgmuend.at

DTSTAMP:20260421T154840Z



DTSTART;TZID=Europe/Vienna:20260501T100000
DTEND;TZID=Europe/Vienna:20260501T170000

SUMMARY:Eröffnung Pankratium Gmünd
DESCRIPTION:Das Haus des Staunens feiert 20 Jahre...

LOCATION:


END:VEVENT
END:VCALENDAR
