BEGIN:VCALENDAR
VERSION:2.0
PRODID:-//TYPO3/NONSGML News system (news)//EN
CALSCALE:GREGORIAN
METHOD:PUBLISH
BEGIN:VEVENT
UID:news-41808@stadtgmuend.at

DTSTAMP:20260422T103800Z



DTSTART;TZID=Europe/Vienna:20260521T080000
DTEND;TZID=Europe/Vienna:20260521T000000

SUMMARY:Krämermarkt &quot;Pfingstmarkt&quot;
DESCRIPTION:Schmökern am Gmündner Krämermarkt

LOCATION:


END:VEVENT
END:VCALENDAR
