BEGIN:VCALENDAR
VERSION:2.0
PRODID:-//TYPO3/NONSGML News system (news)//EN
CALSCALE:GREGORIAN
METHOD:PUBLISH
BEGIN:VEVENT
UID:news-111084@stadtgmuend.at

DTSTAMP:20260420T155731Z



DTSTART;TZID=Europe/Vienna:20260330T140000
DTEND;TZID=Europe/Vienna:20260330T180000

SUMMARY:Zwischenraum
DESCRIPTION:Miteinander geht es leichter!

LOCATION:


END:VEVENT
END:VCALENDAR
