BEGIN:VCALENDAR
VERSION:2.0
PRODID:-//TYPO3/NONSGML News system (news)//EN
CALSCALE:GREGORIAN
METHOD:PUBLISH
BEGIN:VEVENT
UID:news-41809@stadtgmuend.at

DTSTAMP:20260422T103439Z



DTSTART;TZID=Europe/Vienna:20261020T080000
DTEND;TZID=Europe/Vienna:20261020T000000

SUMMARY:Krämermarkt &quot;Herbstmarkt&quot;
DESCRIPTION:Schmökern am Gmündner Krämermarkt

LOCATION:


END:VEVENT
END:VCALENDAR
