BEGIN:VCALENDAR
VERSION:2.0
PRODID:-//TYPO3/NONSGML News system (news)//EN
CALSCALE:GREGORIAN
METHOD:PUBLISH
BEGIN:VEVENT
UID:news-110552@stadtgmuend.at

DTSTAMP:20260420T103041Z



DTSTART;TZID=Europe/Vienna:20260408T080000
DTEND;TZID=Europe/Vienna:20260408T090000

SUMMARY:Hatha Yoga am Morgen
DESCRIPTION:Ein Angebot von Anna Nicklaus und der Gesunden Gemeinde Gmünd

LOCATION:


END:VEVENT
END:VCALENDAR
