BEGIN:VCALENDAR
VERSION:2.0
PRODID:-//TYPO3/NONSGML News system (news)//EN
CALSCALE:GREGORIAN
METHOD:PUBLISH
BEGIN:VEVENT
UID:news-106415@stadtgmuend.at

DTSTAMP:20260422T103426Z



DTSTART;TZID=Europe/Vienna:20261216T000000
DTEND;TZID=Europe/Vienna:20261216T000000

SUMMARY:SVS-Beratungstag
DESCRIPTION:Bitte Lichtbildausweis mitbringen!

LOCATION:


END:VEVENT
END:VCALENDAR
