BEGIN:VCALENDAR
VERSION:2.0
PRODID:-//TYPO3/NONSGML News system (news)//EN
CALSCALE:GREGORIAN
METHOD:PUBLISH
BEGIN:VEVENT
UID:news-75067@stadtgmuend.at

DTSTAMP:20260420T102445Z



DTSTART;TZID=Europe/Vienna:20260909T083000
DTEND;TZID=Europe/Vienna:20260909T120000

SUMMARY:SVS-Beratungstag
DESCRIPTION:Bitte Lichtbildausweis mitbringen!

LOCATION:


END:VEVENT
END:VCALENDAR
